BEGIN:VCALENDAR
VERSION:2.0
CALSCALE:GREGORIAN
PRODID:-//Diputació de Barcelona//DibaCMS//EN
BEGIN:VEVENT
UID:386
DTSTAMP:20260419T221220
DTSTART:20241020T090000
DTEND:20241020T090000
SUMMARY:Excursió pel Camí del Ter
LOCATION:
METHOD:PUBLISH
X-WR-CALNAME:st.m.besora@santamariabesora.cat
X-WR-TIMEZONE:Europe/Madrid
DESCRIPTION:Excursió pel Camí del Ter i dinar a Can Dorca de Sant Hipòlit. Sortida a les 9h. del matí des de l'Ajuntament. Cal inscripció. Organitza la Penya excursionista Besora..

URI:https://www.santamariabesora.cat/actualitat/agenda/excursio-pel-cami-del-ter.html
CLASS:PUBLIC
END:VEVENT
END:VCALENDAR
