BEGIN:VCALENDAR
VERSION:2.0
CALSCALE:GREGORIAN
PRODID:-//Diputació de Barcelona//DibaCMS//EN
BEGIN:VEVENT
UID:384
DTSTAMP:20260419T222921
DTSTART:20241005T110000
DTEND:20241005T123000
SUMMARY:Taller sol pelvià
LOCATION:Sala polivalent 
METHOD:PUBLISH
X-WR-CALNAME:st.m.besora@santamariabesora.cat
X-WR-TIMEZONE:Europe/Madrid
DESCRIPTION:Consciència, manteniment i recuperació del sol pelvià amb Imma Sàrries, llevadora, infermera i terapeuta de shiatsu.

URI:https://www.santamariabesora.cat/actualitat/agenda/taller-sol-pelvia.html
CLASS:PUBLIC
END:VEVENT
END:VCALENDAR
