BEGIN:VCALENDAR
VERSION:2.0
CALSCALE:GREGORIAN
PRODID:-//Diputació de Barcelona//DibaCMS//EN
BEGIN:VEVENT
UID:382
DTSTAMP:20260419T202403
DTSTART:20240517T000000
DTEND:20240701T000000
SUMMARY:Agenda maig - juny
LOCATION:08584 Santa Maria de Besora
METHOD:PUBLISH
X-WR-CALNAME:st.m.besora@santamariabesora.cat
X-WR-TIMEZONE:Europe/Madrid
DESCRIPTION:
URI:https://www.santamariabesora.cat/actualitat/noticies/agenda-maig-juny.html
CLASS:PUBLIC
END:VEVENT
END:VCALENDAR
