BEGIN:VCALENDAR
VERSION:2.0
CALSCALE:GREGORIAN
PRODID:-//Diputació de Barcelona//DibaCMS//EN
BEGIN:VEVENT
UID:381
DTSTAMP:20260419T202419
DTSTART:20240517T000000
DTEND:20240731T000000
SUMMARY:La paraula del poble
LOCATION:08584 Santa Maria de Besora
METHOD:PUBLISH
X-WR-CALNAME:st.m.besora@santamariabesora.cat
X-WR-TIMEZONE:Europe/Madrid
DESCRIPTION:És una iniciativa d'Òmniu Osona i de l'Ajuntament de Santa Maria de Besora per trobar paraules identificatives i pròpies del nostre poble. Ens pots proposar paraules omplint la butlleta que trobaràs a l'ajuntament. El dia de Sant Joan, de totes les paraules proposades, farem una votació per triar les que més ens agradin.

URI:https://www.santamariabesora.cat/actualitat/noticies/la-paraula-del-poble.html
CLASS:PUBLIC
END:VEVENT
END:VCALENDAR
