BEGIN:VCALENDAR
VERSION:2.0
CALSCALE:GREGORIAN
PRODID:-//Diputació de Barcelona//DibaCMS//EN
BEGIN:VEVENT
UID:380
DTSTAMP:20260419T184953
DTSTART:20240614T180000
DTEND:20240614T180000
SUMMARY:Conferència Castell de Besora
LOCATION:Sala polivalent 
METHOD:PUBLISH
X-WR-CALNAME:st.m.besora@santamariabesora.cat
X-WR-TIMEZONE:Europe/Madrid
DESCRIPTION:L'antic cementiri del Castell de Besora. Una investigació oberta ... a càrrec de N. Armentano, X. Jordana, C. Santos, M. Fàbregas i F. Busquets a les 18 h a la sala polivalent. Cloenda a les 19:30 h amb concert d'en J. Ll. Ramell i pica-pica.

URI:https://www.santamariabesora.cat/actualitat/agenda/380-conferencia-castell-de-besora.html
CLASS:PUBLIC
END:VEVENT
END:VCALENDAR
