BEGIN:VCALENDAR
VERSION:2.0
CALSCALE:GREGORIAN
PRODID:-//Diputació de Barcelona//DibaCMS//EN
BEGIN:VEVENT
UID:377
DTSTAMP:20260419T222833
DTSTART:20240602T090000
DTEND:20240602T090000
SUMMARY:Excursió a la Roca del Corb
LOCATION:
METHOD:PUBLISH
X-WR-CALNAME:st.m.besora@santamariabesora.cat
X-WR-TIMEZONE:Europe/Madrid
DESCRIPTION:Sortida a les 9 h des de l'ajuntament.

URI:https://www.santamariabesora.cat/actualitat/agenda/excursio-a-la-roca-del-corb.html
CLASS:PUBLIC
END:VEVENT
END:VCALENDAR
