BEGIN:VCALENDAR
VERSION:2.0
CALSCALE:GREGORIAN
PRODID:-//Diputació de Barcelona//DibaCMS//EN
BEGIN:VEVENT
UID:376
DTSTAMP:20260419T185004
DTSTART:20240601T173000
DTEND:20240601T173000
SUMMARY:Salut cardiovascular
LOCATION:Sala polivalent 
METHOD:PUBLISH
X-WR-CALNAME:st.m.besora@santamariabesora.cat
X-WR-TIMEZONE:Europe/Madrid
DESCRIPTION:Xerrada amb el Doctor Josep Sadurní ex cap del servei de Cardiologia del Consorci Hospitalalri de Vic a les 17:30 h  a la sala polivalent.

URI:https://www.santamariabesora.cat/actualitat/agenda/salut-cardiovascular.html
CLASS:PUBLIC
END:VEVENT
END:VCALENDAR
