BEGIN:VCALENDAR
VERSION:2.0
CALSCALE:GREGORIAN
PRODID:-//Diputació de Barcelona//DibaCMS//EN
BEGIN:VEVENT
UID:373
DTSTAMP:20260419T191008
DTSTART:20240525T173000
DTEND:20240525T173000
SUMMARY:Taller Ukelele
LOCATION:Ajuntament de Santa Maria de Besora 
METHOD:PUBLISH
X-WR-CALNAME:st.m.besora@santamariabesora.cat
X-WR-TIMEZONE:Europe/Madrid
DESCRIPTION:Taller Ukelele a càrrec d'en Josep Lluís Ramell a les 17:30 h a l'ajuntament.

URI:https://www.santamariabesora.cat/actualitat/agenda/taller-ukelele.html
CLASS:PUBLIC
END:VEVENT
END:VCALENDAR
