BEGIN:VCALENDAR
VERSION:2.0
CALSCALE:GREGORIAN
PRODID:-//Diputació de Barcelona//DibaCMS//EN
BEGIN:VEVENT
UID:370
DTSTAMP:20260419T201757
DTSTART:20240423T110000
DTEND:20240423T130000
SUMMARY:Inauguració Armari d'intercanvi de llibres
LOCATION:A l'ajuntament. 
METHOD:PUBLISH
X-WR-CALNAME:st.m.besora@santamariabesora.cat
X-WR-TIMEZONE:Europe/Madrid
DESCRIPTION:Inauguració Armari d'intercanvi de llibres amb pastissos, te i cafè.

URI:https://www.santamariabesora.cat/actualitat/agenda/inauguracio-armari-dintercanvi-de-llibres.html
CLASS:PUBLIC
END:VEVENT
END:VCALENDAR
