BEGIN:VCALENDAR
VERSION:2.0
CALSCALE:GREGORIAN
PRODID:-//Diputació de Barcelona//DibaCMS//EN
BEGIN:VEVENT
UID:369
DTSTAMP:20260419T184558
DTSTART:20240423T090000
DTEND:20240423T163000
SUMMARY:Paradeta de Sant Jordi
LOCATION:Davant de l'ajuntament. 
METHOD:PUBLISH
X-WR-CALNAME:st.m.besora@santamariabesora.cat
X-WR-TIMEZONE:Europe/Madrid
DESCRIPTION:Venda de llibres i roses.

Organitza: Escola La Baumeta.

URI:https://www.santamariabesora.cat/actualitat/agenda/paradeta-de-sant-jordi.html
CLASS:PUBLIC
END:VEVENT
END:VCALENDAR
