BEGIN:VCALENDAR
VERSION:2.0
CALSCALE:GREGORIAN
PRODID:-//Diputació de Barcelona//DibaCMS//EN
BEGIN:VEVENT
UID:368
DTSTAMP:20260419T185656
DTSTART:20240413T183000
DTEND:20240413T203000
SUMMARY:Presentació llibre Una vida a les muntanyes
LOCATION:Sala polivalent 
METHOD:PUBLISH
X-WR-CALNAME:st.m.besora@santamariabesora.cat
X-WR-TIMEZONE:Europe/Madrid
DESCRIPTION:Presentació del llibre Una vida a les muntanyes de la pastora Maria Vilalta de l'Abraham Orriols.

URI:https://www.santamariabesora.cat/actualitat/agenda/presentacio-llibre-una-vida-a-les-muntanyes.html
CLASS:PUBLIC
END:VEVENT
END:VCALENDAR
