BEGIN:VCALENDAR
VERSION:2.0
CALSCALE:GREGORIAN
PRODID:-//Diputació de Barcelona//DibaCMS//EN
BEGIN:VEVENT
UID:365
DTSTAMP:20260419T184717
DTSTART:20240330T090000
DTEND:20240330T180000
SUMMARY:Excursió a Bellmunt des de Besora
LOCATION:
METHOD:PUBLISH
X-WR-CALNAME:st.m.besora@santamariabesora.cat
X-WR-TIMEZONE:Europe/Madrid
DESCRIPTION:Sortida a les 9 del matí des de l'Ajuntament.

Organitza: Penya excursionista de Besora.

URI:https://www.santamariabesora.cat/actualitat/agenda/excursio-a-bellmunt-des-de-besora.html
CLASS:PUBLIC
END:VEVENT
END:VCALENDAR
