BEGIN:VCALENDAR
VERSION:2.0
CALSCALE:GREGORIAN
PRODID:-//Diputació de Barcelona//DibaCMS//EN
BEGIN:VEVENT
UID:363
DTSTAMP:20260419T185446
DTSTART:20240313T000000
DTEND:20240501T000000
SUMMARY:Agenda Cultural març - abril
LOCATION:08584 Santa Maria de Besora
METHOD:PUBLISH
X-WR-CALNAME:st.m.besora@santamariabesora.cat
X-WR-TIMEZONE:Europe/Madrid
DESCRIPTION:
URI:https://www.santamariabesora.cat/actualitat/noticies/agenda-cultural-marc-abril.html
CLASS:PUBLIC
END:VEVENT
END:VCALENDAR
