BEGIN:VCALENDAR
VERSION:2.0
CALSCALE:GREGORIAN
PRODID:-//Diputació de Barcelona//DibaCMS//EN
BEGIN:VEVENT
UID:362
DTSTAMP:20260419T191019
DTSTART:20240307T000000
DTEND:20240518T000000
SUMMARY:Revisió ITV Vehicles agrícoles i ciclomotors
LOCATION:08584 Santa Maria de Besora
METHOD:PUBLISH
X-WR-CALNAME:st.m.besora@santamariabesora.cat
X-WR-TIMEZONE:Europe/Madrid
DESCRIPTION:DATA: 17 de Maig de 2024
LLOC: Aparcament La Cugulera (Costat plaça Bisaura)
HORARI: de 9:00h. a 12:30h

Les persones que hagin de passar la inspecció, hauran de RESERVAR HORA a través del web: www.citaprevia.cat o bé al telèfon 972 49 29 12.

URI:https://www.santamariabesora.cat/actualitat/noticies/362-revisio-itv-vehicles-agricoles-i-ciclomotors.html
CLASS:PUBLIC
END:VEVENT
END:VCALENDAR
