BEGIN:VCALENDAR
VERSION:2.0
CALSCALE:GREGORIAN
PRODID:-//Diputació de Barcelona//DibaCMS//EN
BEGIN:VEVENT
UID:359
DTSTAMP:20260419T202038
DTSTART:20240223T000000
DTEND:20241231T000000
SUMMARY:Rutes guiades i activitats 2024
LOCATION:08584 Santa Maria de Besora
METHOD:PUBLISH
X-WR-CALNAME:st.m.besora@santamariabesora.cat
X-WR-TIMEZONE:Europe/Madrid
DESCRIPTION:
Rutes guiades pel territori 2024

Des del Parc del Castell de Montesquiu s’impulsa aquest projecte amb l’objectiu de descobrir racons singulars de la Vall del Ges, Orís i Bisaura i de L’EIN serres de Milany-Santa Magdalena i Puigsacalm-Bellmunt.

 

 

Activitats de primavera 2024. Parc del Castell de Montesquiu

 

 

Primavera i tardor són dos moments especialment bonics per a descobrir el territori i el parc a través de les diverses activitats de descoberta de l’entorn i el medi natural que s’hi programen.
Primavera i tardor són dos moments especialment bonics per a descobrir el territori i el parc a través de les diverses activitats de descoberta de l’entorn i el medi natural que s’hi programen.Primavera i tardor són dos moments especialment bonics per a descobrir el territori i el parc a través de les diverses activitats de descoberta de l’entorn i el medi natural que s’hi programen.Primavera i tardor són dos moments especialment bonics per a descobrir el territori i el parc a través de les diverses activitats de descoberta de l’entorn i el medi natural que s’hi programen.Des del Parc del Castell de Montesquiu s’impulsa aquest projecte amb l’objectiu de descobrir racons singulars de la Vall del Ges, Orís i Bisaura i de L’EIN serres de Milany-Santa Magdalena i Puigsacalm-Bellmunt.Des del Parc del Castell de Montesquiu s’impulsa aquest projecte amb l’objectiu de descobrir racons singulars de la Vall del Ges, Orís i Bisaura i de L’EIN serres de Milany-Santa Magdalena i Puigsacalm-Bellmunt.

URI:https://www.santamariabesora.cat/actualitat/noticies/rutes-guiades-i-activitats-2024.html
CLASS:PUBLIC
END:VEVENT
END:VCALENDAR
