BEGIN:VCALENDAR
VERSION:2.0
CALSCALE:GREGORIAN
PRODID:-//Diputació de Barcelona//DibaCMS//EN
BEGIN:VEVENT
UID:352
DTSTAMP:20260419T201208
DTSTART:20230308T000000
DTEND:20230605T000000
SUMMARY:ACTIVITATS PRIMAVERA -Parc Castell de Montesquiu
LOCATION:08584 Santa Maria de Besora
METHOD:PUBLISH
X-WR-CALNAME:st.m.besora@santamariabesora.cat
X-WR-TIMEZONE:Europe/Madrid
DESCRIPTION:Us informem de les activitats de primavera que organitza el Parc del Castell de Montesquiu.

URI:https://www.santamariabesora.cat/actualitat/noticies/activitats-primavera-parc-castell-de-montesquiu.html
CLASS:PUBLIC
END:VEVENT
END:VCALENDAR
