BEGIN:VCALENDAR
VERSION:2.0
CALSCALE:GREGORIAN
PRODID:-//Diputació de Barcelona//DibaCMS//EN
BEGIN:VEVENT
UID:310
DTSTAMP:20260419T185624
DTSTART:20210707T000000
DTEND:20220707T000000
SUMMARY:Recollida de residus
LOCATION:08584 Santa Maria de Besora
METHOD:PUBLISH
X-WR-CALNAME:st.m.besora@santamariabesora.cat
X-WR-TIMEZONE:Europe/Madrid
DESCRIPTION:Informació del servei de recollida de residus.

URI:https://www.santamariabesora.cat/actualitat/noticies/recollida-de-residus.html
CLASS:PUBLIC
END:VEVENT
END:VCALENDAR
