BEGIN:VCALENDAR
VERSION:2.0
CALSCALE:GREGORIAN
PRODID:-//Diputació de Barcelona//DibaCMS//EN
BEGIN:VEVENT
UID:301
DTSTAMP:20260419T155109
DTSTART:20210312T000000
DTEND:20211122T000000
SUMMARY:RUTES GUIADES 2021 Marxa nòrdica
LOCATION:08584 Santa Maria de Besora
METHOD:PUBLISH
X-WR-CALNAME:st.m.besora@santamariabesora.cat
X-WR-TIMEZONE:Europe/Madrid
DESCRIPTION:Viu un dia perfecte i descobreix tots els encants amagats de la vall del Ges, Orís i Bisaura.
El Parc del castell de Montesquiu t’ofereix excursions amb diferents nivells de dificultat, per a tots els públics i amb durades d’entre 3 i 4 hores. Clica i consulta el programa al llibret informatiu.

URI:https://www.santamariabesora.cat/actualitat/noticies/rutes-guiades-2021-marxa-nordica.html
CLASS:PUBLIC
END:VEVENT
END:VCALENDAR
