BEGIN:VCALENDAR
VERSION:2.0
CALSCALE:GREGORIAN
PRODID:-//Diputació de Barcelona//DibaCMS//EN
BEGIN:VEVENT
UID:297
DTSTAMP:20260419T153852
DTSTART:20201026T000000
DTEND:20201114T000000
SUMMARY:DIJOUS 12 DE NOVEMBRE TALLS DE CIRCULACIÓ A LA CRTA BV-5227 
LOCATION:08584 Santa Maria de Besora
METHOD:PUBLISH
X-WR-CALNAME:st.m.besora@santamariabesora.cat
X-WR-TIMEZONE:Europe/Madrid
DESCRIPTION:Dijous 12 de novembre a causa de les voladures previstes entre les 10:00h i les 15:00h estarà tallada la circulació a la carretera BV-5227.

URI:https://www.santamariabesora.cat/actualitat/noticies/dijous-12-de-novembre-talls-de-circulacio-a-la-crta-bv-5227-.html
CLASS:PUBLIC
END:VEVENT
END:VCALENDAR
