BEGIN:VCALENDAR
VERSION:2.0
CALSCALE:GREGORIAN
PRODID:-//Diputació de Barcelona//DibaCMS//EN
BEGIN:VEVENT
UID:267
DTSTAMP:20260419T153610
DTSTART:20190902T000000
DTEND:20200901T000000
SUMMARY:El camí OLIBA
LOCATION:08584 Santa Maria de Besora
METHOD:PUBLISH
X-WR-CALNAME:st.m.besora@santamariabesora.cat
X-WR-TIMEZONE:Europe/Madrid
DESCRIPTION:Tota la informació sobre el carnet de ruta. A Santa Maria de Besora punt on aconseguir i segellar el carnet al Bar-Restaurant Els Bufadors

URI:https://www.santamariabesora.cat/actualitat/noticies/267-el-cami-oliba.html
CLASS:PUBLIC
END:VEVENT
END:VCALENDAR
