BEGIN:VCALENDAR
VERSION:2.0
CALSCALE:GREGORIAN
PRODID:-//Diputació de Barcelona//DibaCMS//EN
BEGIN:VEVENT
UID:259
DTSTAMP:20260419T165811
DTSTART:20190727T110000
DTEND:20190727T110000
SUMMARY:DIADA DE LA GENT GRAN
LOCATION:
METHOD:PUBLISH
X-WR-CALNAME:st.m.besora@santamariabesora.cat
X-WR-TIMEZONE:Europe/Madrid
DESCRIPTION:
URI:https://www.santamariabesora.cat/actualitat/agenda/259-diada-de-la-gent-gran.html
CLASS:PUBLIC
END:VEVENT
END:VCALENDAR
