BEGIN:VCALENDAR
VERSION:2.0
CALSCALE:GREGORIAN
PRODID:-//Diputació de Barcelona//DibaCMS//EN
BEGIN:VEVENT
UID:255
DTSTAMP:20260419T185814
DTSTART:20190619T000000
DTEND:20190708T000000
SUMMARY:MÚSICA A LA GESPA
LOCATION:08584 Santa Maria de Besora
METHOD:PUBLISH
X-WR-CALNAME:st.m.besora@santamariabesora.cat
X-WR-TIMEZONE:Europe/Madrid
DESCRIPTION:
URI:https://www.santamariabesora.cat/actualitat/noticies/255-musica-a-la-gespa.html
CLASS:PUBLIC
END:VEVENT
END:VCALENDAR
