BEGIN:VCALENDAR
VERSION:2.0
CALSCALE:GREGORIAN
PRODID:-//Diputació de Barcelona//DibaCMS//EN
BEGIN:VEVENT
UID:254
DTSTAMP:20260419T154105
DTSTART:20190707T113000
DTEND:20190707T193000
SUMMARY:MÚSICA A LA GESPA
LOCATION:Jardins del castell de Montesquiu 
METHOD:PUBLISH
X-WR-CALNAME:st.m.besora@santamariabesora.cat
X-WR-TIMEZONE:Europe/Madrid
DESCRIPTION:
URI:https://www.santamariabesora.cat/actualitat/agenda/254-musica-a-la-gespa.html
CLASS:PUBLIC
END:VEVENT
END:VCALENDAR
