BEGIN:VCALENDAR
VERSION:2.0
CALSCALE:GREGORIAN
PRODID:-//Diputació de Barcelona//DibaCMS//EN
BEGIN:VEVENT
UID:247
DTSTAMP:20260419T171124
DTSTART:20190522T173000
DTEND:20190522T173000
SUMMARY:APANTALLATS
LOCATION:
METHOD:PUBLISH
X-WR-CALNAME:st.m.besora@santamariabesora.cat
X-WR-TIMEZONE:Europe/Madrid
DESCRIPTION:Xerrada col·loqui sobre l'ús i abús de les pantalles en l'educació dels nostres fill@s a càrrec de Roger Pous - a l'escola el Rocal de Montesquiu

URI:https://www.santamariabesora.cat/actualitat/agenda/247-apantallats.html
CLASS:PUBLIC
END:VEVENT
END:VCALENDAR
