BEGIN:VCALENDAR
VERSION:2.0
CALSCALE:GREGORIAN
PRODID:-//Diputació de Barcelona//DibaCMS//EN
BEGIN:VEVENT
UID:229
DTSTAMP:20260419T171827
DTSTART:20180921T000000
DTEND:20181203T000000
SUMMARY:Activitats tardor 2018
LOCATION:08584 Santa Maria de Besora
METHOD:PUBLISH
X-WR-CALNAME:st.m.besora@santamariabesora.cat
X-WR-TIMEZONE:Europe/Madrid
DESCRIPTION:
URI:https://www.santamariabesora.cat/actualitat/noticies/activitats-tardor-2018.html
CLASS:PUBLIC
END:VEVENT
END:VCALENDAR
