BEGIN:VCALENDAR
VERSION:2.0
CALSCALE:GREGORIAN
PRODID:-//Diputació de Barcelona//DibaCMS//EN
BEGIN:VEVENT
UID:217
DTSTAMP:20260419T153636
DTSTART:20180708T120000
DTEND:20180708T193000
SUMMARY:Música a la gespa
LOCATION:Jardins del Castell de Montesquiu 
METHOD:PUBLISH
X-WR-CALNAME:st.m.besora@santamariabesora.cat
X-WR-TIMEZONE:Europe/Madrid
DESCRIPTION:
URI:https://www.santamariabesora.cat/actualitat/agenda/217-musica-a-la-gespa.html
CLASS:PUBLIC
END:VEVENT
END:VCALENDAR
