BEGIN:VCALENDAR
VERSION:2.0
CALSCALE:GREGORIAN
PRODID:-//Diputació de Barcelona//DibaCMS//EN
BEGIN:VEVENT
UID:216
DTSTAMP:20260419T190545
DTSTART:20180622T173000
DTEND:20180622T173000
SUMMARY:Festa final de curs escola La Baumeta
LOCATION:Local del frontó de Santa Maria de Besora 
METHOD:PUBLISH
X-WR-CALNAME:st.m.besora@santamariabesora.cat
X-WR-TIMEZONE:Europe/Madrid
DESCRIPTION:
URI:https://www.santamariabesora.cat/actualitat/agenda/festa-final-de-curs-escola-la-baumeta.html
CLASS:PUBLIC
END:VEVENT
END:VCALENDAR
