BEGIN:VCALENDAR
VERSION:2.0
CALSCALE:GREGORIAN
PRODID:-//Diputació de Barcelona//DibaCMS//EN
BEGIN:VEVENT
UID:213
DTSTAMP:20260419T171807
DTSTART:20180606T000000
DTEND:20180715T000000
SUMMARY:4a SORTIDA JOVE AL PARC AQUÀTIC AQUABRAVA (ROSES)
LOCATION:08584 Santa Maria de Besora
METHOD:PUBLISH
X-WR-CALNAME:st.m.besora@santamariabesora.cat
X-WR-TIMEZONE:Europe/Madrid
DESCRIPTION:
URI:https://www.santamariabesora.cat/actualitat/noticies/4a-sortida-jove-al-parc-aquatic-aquabrava-roses.html
CLASS:PUBLIC
END:VEVENT
END:VCALENDAR
