BEGIN:VCALENDAR
VERSION:2.0
CALSCALE:GREGORIAN
PRODID:-//Diputació de Barcelona//DibaCMS//EN
BEGIN:VEVENT
UID:209
DTSTAMP:20260419T170824
DTSTART:20180529T000000
DTEND:20180630T000000
SUMMARY:Exposició ElS INVENTS
LOCATION:08584 Santa Maria de Besora
METHOD:PUBLISH
X-WR-CALNAME:st.m.besora@santamariabesora.cat
X-WR-TIMEZONE:Europe/Madrid
DESCRIPTION:Visiteu a l'ajuntament de Santa Maria de Besora una gran exposició sobre ELS INVENTS feta pels alumnes de l'Escola La Baumeta.

URI:https://www.santamariabesora.cat/actualitat/noticies/exposicio-els-invents.html
CLASS:PUBLIC
END:VEVENT
END:VCALENDAR
