BEGIN:VCALENDAR
VERSION:2.0
CALSCALE:GREGORIAN
PRODID:-//Diputació de Barcelona//DibaCMS//EN
BEGIN:VEVENT
UID:203
DTSTAMP:20260419T153051
DTSTART:20180427T000000
DTEND:20180731T000000
SUMMARY:1a Cantata Zer - Cantem pel món
LOCATION:08584 Santa Maria de Besora
METHOD:PUBLISH
X-WR-CALNAME:st.m.besora@santamariabesora.cat
X-WR-TIMEZONE:Europe/Madrid
DESCRIPTION:El passat divendres 20 d’abril tots els nens i nenes de la ZER Els Castells van participar a la 1a Cantata que portava per títol “Cantem pel món”. La cantada seguia un fil conductor que representaven els i les alumnes de 6è de les tres escoles i entremig s’anaven intercalant cançons i danses d’arreu del món interpretats pels nens i nenes de les escoles.

L’acte va tenir lloc en el meravellós entorn dels jardins del Castell de Montesquiu i va reunir un bon nombre de públic entre pare, mares, germans, avis, tiets… El resultat va ser molt lluït i és que els nens i nenes havien treballat de valent a l’escola, sobretot amb en Jordi, el mestre de música.

Al final de l’obra es va fer entrega dels premis dels I Jocs Florals de la ZER. Trobareu més informació i totes les imatges a la web de l'Escola La Baumeta.

URI:https://www.santamariabesora.cat/actualitat/noticies/1a-cantata-zer-cantem-pel-mon.html
CLASS:PUBLIC
END:VEVENT
END:VCALENDAR
