BEGIN:VCALENDAR
VERSION:2.0
CALSCALE:GREGORIAN
PRODID:-//Diputació de Barcelona//DibaCMS//EN
BEGIN:VEVENT
UID:201
DTSTAMP:20260419T172121
DTSTART:20180506T090000
DTEND:20180506T090000
SUMMARY:Caminada Solidària ZER Els Castells
LOCATION:
METHOD:PUBLISH
X-WR-CALNAME:st.m.besora@santamariabesora.cat
X-WR-TIMEZONE:Europe/Madrid
DESCRIPTION:Sortida: Plaça Mossèn Cinto Verdaguer de Montesquiu

Itinerari de 8 Km

Recorregut: Montesquiu - Bauma de Ginestet - Camí de l'Orra - Montesquiu

Hi haurà esmorzar per a tots els participants

 

URI:https://www.santamariabesora.cat/actualitat/agenda/caminada-solidaria-zer-els-castells.html
CLASS:PUBLIC
END:VEVENT
END:VCALENDAR
