BEGIN:VCALENDAR
VERSION:2.0
CALSCALE:GREGORIAN
PRODID:-//Diputació de Barcelona//DibaCMS//EN
BEGIN:VEVENT
UID:191
DTSTAMP:20260419T165051
DTSTART:20170105T190000
DTEND:20170105T190000
SUMMARY:Cavalcada de Reis
LOCATION:
METHOD:PUBLISH
X-WR-CALNAME:st.m.besora@santamariabesora.cat
X-WR-TIMEZONE:Europe/Madrid
DESCRIPTION:
URI:https://www.santamariabesora.cat/actualitat/agenda/cavalcada-de-reis.html
CLASS:PUBLIC
END:VEVENT
END:VCALENDAR
