BEGIN:VCALENDAR
VERSION:2.0
CALSCALE:GREGORIAN
PRODID:-//Diputació de Barcelona//DibaCMS//EN
BEGIN:VEVENT
UID:183
DTSTAMP:20260419T165839
DTSTART:20160830T000000
DTEND:20160830T000000
SUMMARY:FESTA MAJOR DE SANTA MARIA DE BESORA
LOCATION:
METHOD:PUBLISH
X-WR-CALNAME:st.m.besora@santamariabesora.cat
X-WR-TIMEZONE:Europe/Madrid
DESCRIPTION:Del 9 al 12 de setembre

URI:https://www.santamariabesora.cat/actualitat/agenda/festa-major-de-santa-maria-de-besora.html
CLASS:PUBLIC
END:VEVENT
END:VCALENDAR
