BEGIN:VCALENDAR
VERSION:2.0
CALSCALE:GREGORIAN
PRODID:-//Diputació de Barcelona//DibaCMS//EN
BEGIN:VEVENT
UID:179
DTSTAMP:20260419T154247
DTSTART:20160614T090500
DTEND:20160622T090500
SUMMARY:La Baumeta celebra la festa de fi de curs
LOCATION:
METHOD:PUBLISH
X-WR-CALNAME:st.m.besora@santamariabesora.cat
X-WR-TIMEZONE:Europe/Madrid
DESCRIPTION:El proper dia 21 de juny a les 17:30h l'escola celebra la festa de fi de curs. Es podrà gaudir d'una petita representació teatral dels alumnes, de jocs i per acabar un berenar sopar.

Els actes tindran lloc al local del frontó.

Us hi esperem!. 

URI:https://www.santamariabesora.cat/actualitat/noticies/la-baumeta-celebra-la-festa-de-fi-de-curs.html
CLASS:PUBLIC
END:VEVENT
END:VCALENDAR
