BEGIN:VCALENDAR
VERSION:2.0
CALSCALE:GREGORIAN
PRODID:-//Diputació de Barcelona//DibaCMS//EN
BEGIN:VEVENT
UID:177
DTSTAMP:20260419T170007
DTSTART:20160621T173000
DTEND:20160621T173000
SUMMARY:Escola La Baumeta - Festa fi de curs
LOCATION:
METHOD:PUBLISH
X-WR-CALNAME:st.m.besora@santamariabesora.cat
X-WR-TIMEZONE:Europe/Madrid
DESCRIPTION:
URI:https://www.santamariabesora.cat/actualitat/agenda/escola-la-baumeta-festa-fi-de-curs.html
CLASS:PUBLIC
END:VEVENT
END:VCALENDAR
