BEGIN:VCALENDAR
VERSION:2.0
CALSCALE:GREGORIAN
PRODID:-//Diputació de Barcelona//DibaCMS//EN
BEGIN:VEVENT
UID:174
DTSTAMP:20260419T141207
DTSTART:20160513T130000
DTEND:20160513T130000
SUMMARY:DIADA DE LA GENT GRAN
LOCATION:
METHOD:PUBLISH
X-WR-CALNAME:st.m.besora@santamariabesora.cat
X-WR-TIMEZONE:Europe/Madrid
DESCRIPTION:
URI:https://www.santamariabesora.cat/actualitat/agenda/174-diada-de-la-gent-gran.html
CLASS:PUBLIC
END:VEVENT
END:VCALENDAR
