BEGIN:VCALENDAR
VERSION:2.0
CALSCALE:GREGORIAN
PRODID:-//Diputació de Barcelona//DibaCMS//EN
BEGIN:VEVENT
UID:173
DTSTAMP:20260419T141433
DTSTART:20160513T125000
DTEND:20160513T125000
SUMMARY:DIADA DE LA GENT GRAN
LOCATION:
METHOD:PUBLISH
X-WR-CALNAME:st.m.besora@santamariabesora.cat
X-WR-TIMEZONE:Europe/Madrid
DESCRIPTION:El dissabte 30 de juliol de 2016 Santa Maria de Besora celebra el 15è HOMENATGE A LA GENT GRAN.

URI:https://www.santamariabesora.cat/actualitat/agenda/diada-de-la-gent-gran.html
CLASS:PUBLIC
END:VEVENT
END:VCALENDAR
