BEGIN:VCALENDAR
VERSION:2.0
CALSCALE:GREGORIAN
PRODID:-//Diputació de Barcelona//DibaCMS//EN
BEGIN:VEVENT
UID:DI_390@www.santamariabesora.cat
DTSTAMP:20260424T080710
DTSTART:20251222T000000
DTEND:20261222T000000
SUMMARY:Intervenció arqueològica Conjunt Monumental Castell de Besora
LOCATION:08584 Santa Maria de Besora
METHOD:PUBLISH
X-WR-CALNAME:st.m.besora@santamariabesora.cat
X-WR-TIMEZONE:Europe/Madrid
DESCRIPTION:L’ajuntament de Santa Maria de Besora ha realitzat l
	’actuació d'Intervenció arqueològica al Con
	junt Monumental Castell de Besora al sector Nord Est de les restes del cas
	tell. Aquesta actuació impulsada per la regidoria de cultura s&rsqu
	o;ha realitzat amb el suport de la Generalitat de Catalunya que l’ha
	 subvencionat en la seva totalitat.  
URI:https://www.santamariabesora.cat/actualitat/noticies/intervencio-arqueologica-conjunt-monumental-castell-de-besora.html
CLASS:PUBLIC
END:VEVENT
BEGIN:VEVENT
UID:DI_391@www.santamariabesora.cat
DTSTAMP:20260424T080710
DTSTART:20251222T000000
DTEND:20261222T000000
SUMMARY:Horari Bibliobús any 2026
LOCATION:08584 Santa Maria de Besora
METHOD:PUBLISH
X-WR-CALNAME:st.m.besora@santamariabesora.cat
X-WR-TIMEZONE:Europe/Madrid
DESCRIPTION:Els dijous el Bibliobús porta la lectura al municipi de 
	Santa Maria de Besora. Aquí trobareu la informació dels hora
	ris.
URI:https://www.santamariabesora.cat/actualitat/noticies/horari-bibliobus-any-2026.html
CLASS:PUBLIC
END:VEVENT
BEGIN:VEVENT
UID:DI_389@www.santamariabesora.cat
DTSTAMP:20260424T080710
DTSTART:20251203T000000
DTEND:20261203T000000
SUMMARY:Ja és públic el cens electoral de les Eleccions Agràries 2026
LOCATION:08584 Santa Maria de Besora
METHOD:PUBLISH
X-WR-CALNAME:st.m.besora@santamariabesora.cat
X-WR-TIMEZONE:Europe/Madrid
DESCRIPTION:El Departament d’Acció Climàtica, Alimentac
	ió i Agenda Rural ha fet públic avui el cens electoral provi
	sional corresponent a les Eleccions Agràries 2026. A partir d&rsquo
	;aquest moment, totes les persones titulars d’explotacions agr&agrav
	e;ries i professionals del sector poden consultar si consten correctament 
	inscrites i, si escau, presentar les corresponents esmenes o al·leg
	acions. Durant el període d’exposició, les persones in
	teressades poden revisar les seves dades i comunicar qualsevol incid&egrav
	e;ncia o error mitjançant els procediments establerts. Un cop final
	itzat el termini i resoltes les al·legacions, es publicarà e
	l cens definitiu, que servirà de base per a la jornada elector
	al. Les Eleccions Agràries 2026 determinaran la representativitat d
	e les organitzacions professionals del sector, un element clau per a la de
	fensa dels interessos de les explotacions agràries del país.
	 Per a més informació, el Departament recomana consultar els
	 canals oficials o fent click aquí.
URI:https://www.santamariabesora.cat/actualitat/noticies/ja-es-public-el-cens-electoral-de-les-eleccions-agraries-2026.html
CLASS:PUBLIC
END:VEVENT
BEGIN:VEVENT
UID:DI_388@www.santamariabesora.cat
DTSTAMP:20260424T080710
DTSTART:20250708T130600
DTEND:20260708T000000
SUMMARY:Refugis climàtics de Santa Maria de Besora
LOCATION:08584 Santa Maria de Besora
METHOD:PUBLISH
X-WR-CALNAME:st.m.besora@santamariabesora.cat
X-WR-TIMEZONE:Europe/Madrid
DESCRIPTION:L’ajuntament ha realitzat l’actuació d'a
	daptació de dos edificis municipals que actuaran com a refugis clim
	àtics per proporcionar confort a la ciutadania en situacions d'
	emergència generades per la calor. Es tracta de la sala poliva
	lent i el local social situats a l’ajuntament i de l’escola. A
	questa actuació impulsada per la regidoria de medi ambient,&nb
	sp;és objecte de subvenció de la Generalitat de Catalunya co
	rresponent a l’actuació de refugis climàtics amb la fi
	nalitat de reduir la vulnerabilitat en la salut de les persones mitjan&cce
	dil;ant l’adaptació d’edificis públics.
URI:https://www.santamariabesora.cat/actualitat/noticies/refugis-climatics-de-santa-maria-de-besora.html
CLASS:PUBLIC
END:VEVENT
END:VCALENDAR
